BEGIN:VCALENDAR
VERSION:2.0
PRODID:-//Alphorn Berlin - ECPv6.2.6//NONSGML v1.0//EN
CALSCALE:GREGORIAN
METHOD:PUBLISH
X-WR-CALNAME:Alphorn Berlin
X-ORIGINAL-URL:https://alphorn.berlin
X-WR-CALDESC:Veranstaltungen für Alphorn Berlin
REFRESH-INTERVAL;VALUE=DURATION:PT1H
X-Robots-Tag:noindex
X-PUBLISHED-TTL:PT1H
BEGIN:VTIMEZONE
TZID:Europe/Berlin
BEGIN:DAYLIGHT
TZOFFSETFROM:+0100
TZOFFSETTO:+0200
TZNAME:CEST
DTSTART:20260329T010000
END:DAYLIGHT
BEGIN:STANDARD
TZOFFSETFROM:+0200
TZOFFSETTO:+0100
TZNAME:CET
DTSTART:20261025T010000
END:STANDARD
END:VTIMEZONE
BEGIN:VEVENT
DTSTART;TZID=Europe/Berlin:20260425T170000
DTEND;TZID=Europe/Berlin:20260425T173000
DTSTAMP:20260425T013146
CREATED:20260408T133530Z
LAST-MODIFIED:20260408T133610Z
UID:2782-1777136400-1777138200@alphorn.berlin
SUMMARY:Schöneiche singt und musiziert
DESCRIPTION:Alphorn-Geister \nmystische Naturtöne dringen durch den Park und lassen betörende Melodien erklingen mit Abschluß am Dino-Teich.
URL:https://alphorn.berlin/veranstaltung/schoeneiche-singt-und-musiziert-2/
LOCATION:Schöneiche bei Berlin\, Dorfaue 45\, Schöneiche\, 15566
END:VEVENT
END:VCALENDAR